Workbook

Sheet Consignes-Remplissage
A2: Ce fichier constitue la première partie du rapport que les EES habilité à organiser la formation de kinésithérapie doivent compléter chaque année.
A4: Il est constitué de cellules protégées et de cellules à remplir par les EES.
A6: Il comprend 5 onglets permettant de compléter les éléments du programme par bloc.
A8: Nom de l'UE / de l'AA
B9: Dans le cas où des UE optionnelles sont prévues, il convient de les indiquer aussi (même si le total des crédits dépassera les 60)
B10: Dans le cas où l'UE ne comprend pas d'AA, indiquer simplement le nom de l'UE.
B11: Dans le cas où l'UE comprend des AA, indiquer le nom de l'UE et de chaque AA
A12: Type d'activité d'apprentissage
B13: Sélectionner dans le menu déroulant le type d'AA telle que libellée dans le décret paysage
A14: Théorique
B15: Une formule indique automatiquement si l'activité d'apprentissage ou l'UE est considérée comme "théorique"
A16: Crédits
B17: Dans le cas où l'UE ne comprend pas d'AA, indiquer simplement le nombre de crédits de l'UE.
B18: Dans le cas où l'UE comprend des AA, indiquer le nombre de crédits en regard de chaque AA. ! Ne pas indiquer le nombre de crédits de l'UE dans ce cas!
A19: Nom et Prénom de l'enseignant.e
B20: Indiquer en regard de l'UE ou de l'AA le nom de la personne qui enseigne
A21: Doctorat
B22: Sélectionner dans le menu déroulant "oui" ou "non"

Sheet SYNTHESE
A1: Etablissement: | B1: Haute école
A3: Bachelier - BLOC 1 | B3: Crédits théoriques | D3: ='Bachelier-bloc 1'!$E$5 -> 30 | F3: Au début de l’année académique 2026-2027, remise des informations pour le bloc 1 du bachelier de transition. Il doit être vérifié que le pourcentage de 25% est atteint.
B4: Crédits théoriques avec doctorat | D4: ='Bachelier-bloc 1'!$E$6 -> 7
B5: Pourcentage | D5: =D4/D3 -> 0.23333333
A7: Bachelier - BLOC 2 | B7: Crédits théoriques | D7: ='Bachelier-bloc 2'!E5 -> 32 | F7: Au début de l’année académique 2027-2028, remise des informations pour les blocs 1 et 2 du bachelier de transition. Il doit être vérifié que le pourcentage de 25% est atteint sur l’ensemble des activités d’apprentissage de ces deux années.
B8: Crédits théoriques avec doctorat | D8: ='Bachelier-bloc 2'!E6 -> 14
B9: Pourcentage | D9: ='Bachelier-bloc 2'!E7 -> 0.4375
A11: Bachelier - BLOC 3 | B11: Crédits théoriques | D11: ='Bachelier-bloc 3'!E5 -> 32
B12: Crédits théoriques avec doctorat | D12: ='Bachelier-bloc 3'!E6 -> 19
B13: Pourcentage | D13: ='Bachelier-bloc 3'!E7 -> 0.59375
A15: Total Bachelier | B15: Crédits théoriques | D15: =D3+D7+D11 -> 94 | F15: Au début de l’année académique 2028-2029, remise des informations pour l’entièreté du bachelier de transition. Il doit être vérifié que le pourcentage de 25% est atteint sur l’ensemble des activités d’apprentissage du premier cycle.
B16: Crédits théoriques avec doctorat | D16: =D4+D8+D12 -> 40
B17: Pourcentage | D17: =D16/D15 -> 0.42553191
A19: Master - BLOC 1 | B19: Crédits théoriques | D19: ='Master-Bloc1'!E5 -> 29 | F19: Au début de l’année académique 2029-2030, remise des informations pour l’entièreté du bachelier et de la première année du master. Il doit être vérifié que le pourcentage de 50% est atteint dans le bachelier.
B20: Crédits théoriques avec doctorat | D20: ='Master-Bloc1'!E6 -> 13
B21: Pourcentage | D21: ='Master-Bloc1'!E7 -> 0.44827586
A23: Master - BLOC 2 | B23: Crédits théoriques | D23: ='Master-bloc 2'!E5 -> 29 | F23: Au début de l’année académique 2030-2031, remise des informations pour l’entièreté du bachelier et de la première année du master. Il doit être vérifié que le pourcentage de 50% est atteint dans le bachelier.
B24: Crédits théoriques avec doctorat | D24: ='Master-bloc 2'!E6 -> 20
B25: Pourcentage | D25: ='Master-bloc 2'!E7 -> 0.68965517
A27: Total Master | B27: Crédits théoriques | D27: =D19+D23 -> 58
B28: Crédits théoriques avec doctorat | D28: =D20+D24 -> 33
B29: Pourcentage | D29: =D28/D27 -> 0.56896552
A31: Total Cursus | B31: Crédits théoriques | D31: =D15+D27 -> 152 | F31: Au début de l’année académique 2031-2032, remise des informations pour le cursus complet (bachelier et master). Il doit être vérifié que le pourcentage de 80% est atteint.
B32: Crédits théoriques avec doctorat | D32: =D16+D28 -> 73
B33: Pourcentage | D33: =D32/D31 -> 0.48026316

Sheet Bachelier-bloc 1
A1: Etablissement: | B1: =SYNTHESE!$B$1 -> Haute école
C3: Sont considérées comme activités théoriques : les cours magistraux, les séminaires, les travaux de fin d’études et les activités assimilées
A4: Bachelier - BLOC 1
C5: Crédits théoriques | E5: =SUMIF(D10:D159,"OUI",E10:E159) -> 30
C6: Crédits théoriques avec doctorat | E6: =SUMIFS(E10:E159,D10:D159,"OUI",G10:G159,"OUI") -> 7
C7: Pourcentage | E7: =E6/E5 -> 0.23333333
B9: Nom de l'UE / de l'AA | C9: Type d'activité d'apprentissage | D9: Théorique | E9: Crédits | F9: Nom et Prénom de l'enseignant.e | G9: Doctorat
A10: Unité d'enseignement 1 | C10: Activité d'intégration professionnelle | D10: =IF(OR(C10="Cours magistral",C10="Activité assimilée",C10="Travail de fin d'études",C10="Séminaire"),"OUI","NON") -> NON | E10: 0 | G10: OUI
A11: AA1.1 | D11: =IF(OR(C11="Cours magistral",C11="Activité assimilée",C11="Travail de fin d'études",C11="Séminaire"),"OUI","NON") -> NON
A12: AA1.2 | D12: =IF(OR(C12="Cours magistral",C12="Activité assimilée",C12="Travail de fin d'études",C12="Séminaire"),"OUI","NON") -> NON
A13: AA1.3 | D13: =IF(OR(C13="Cours magistral",C13="Activité assimilée",C13="Travail de fin d'études",C13="Séminaire"),"OUI","NON") -> NON
A14: AA1.4 | D14: =IF(OR(C14="Cours magistral",C14="Activité assimilée",C14="Travail de fin d'études",C14="Séminaire"),"OUI","NON") -> NON
A15: AA1.5 | D15: =IF(OR(C15="Cours magistral",C15="Activité assimilée",C15="Travail de fin d'études",C15="Séminaire"),"OUI","NON") -> NON
A16: Unité d'enseignement 2 | C16: Cours magistral | D16: =IF(OR(C16="Cours magistral",C16="Activité assimilée",C16="Travail de fin d'études",C16="Séminaire"),"OUI","NON") -> OUI | E16: 4 | G16: NON
A17: AA2.1 | D17: =IF(OR(C17="Cours magistral",C17="Activité assimilée",C17="Travail de fin d'études",C17="Séminaire"),"OUI","NON") -> NON
A18: AA2.2 | D18: =IF(OR(C18="Cours magistral",C18="Activité assimilée",C18="Travail de fin d'études",C18="Séminaire"),"OUI","NON") -> NON
A19: AA2.3 | D19: =IF(OR(C19="Cours magistral",C19="Activité assimilée",C19="Travail de fin d'études",C19="Séminaire"),"OUI","NON") -> NON
A20: AA2.4 | D20: =IF(OR(C20="Cours magistral",C20="Activité assimilée",C20="Travail de fin d'études",C20="Séminaire"),"OUI","NON") -> NON
A21: AA2.5 | D21: =IF(OR(C21="Cours magistral",C21="Activité assimilée",C21="Travail de fin d'études",C21="Séminaire"),"OUI","NON") -> NON
A22: Unité d'enseignement 3 | C22: Activité d'intégration professionnelle | D22: =IF(OR(C22="Cours magistral",C22="Activité assimilée",C22="Travail de fin d'études",C22="Séminaire"),"OUI","NON") -> NON | E22: 3 | G22: OUI
A23: AA3.1 | D23: =IF(OR(C23="Cours magistral",C23="Activité assimilée",C23="Travail de fin d'études",C23="Séminaire"),"OUI","NON") -> NON
A24: AA3.2 | D24: =IF(OR(C24="Cours magistral",C24="Activité assimilée",C24="Travail de fin d'études",C24="Séminaire"),"OUI","NON") -> NON
A25: AA3.3 | D25: =IF(OR(C25="Cours magistral",C25="Activité assimilée",C25="Travail de fin d'études",C25="Séminaire"),"OUI","NON") -> NON
A26: AA3.4 | D26: =IF(OR(C26="Cours magistral",C26="Activité assimilée",C26="Travail de fin d'études",C26="Séminaire"),"OUI","NON") -> NON
A27: AA3.5 | D27: =IF(OR(C27="Cours magistral",C27="Activité assimilée",C27="Travail de fin d'études",C27="Séminaire"),"OUI","NON") -> NON
A28: Unité d'enseignement 4 | C28: Travail de fin d'études | D28: =IF(OR(C28="Cours magistral",C28="Activité assimilée",C28="Travail de fin d'études",C28="Séminaire"),"OUI","NON") -> OUI | E28: 10 | G28: NON
A29: AA4.1 | D29: =IF(OR(C29="Cours magistral",C29="Activité assimilée",C29="Travail de fin d'études",C29="Séminaire"),"OUI","NON") -> NON
A30: AA4.2 | D30: =IF(OR(C30="Cours magistral",C30="Activité assimilée",C30="Travail de fin d'études",C30="Séminaire"),"OUI","NON") -> NON
A31: AA4.3 | D31: =IF(OR(C31="Cours magistral",C31="Activité assimilée",C31="Travail de fin d'études",C31="Séminaire"),"OUI","NON") -> NON
A32: AA4.4 | D32: =IF(OR(C32="Cours magistral",C32="Activité assimilée",C32="Travail de fin d'études",C32="Séminaire"),"OUI","NON") -> NON
A33: AA4.5 | D33: =IF(OR(C33="Cours magistral",C33="Activité assimilée",C33="Travail de fin d'études",C33="Séminaire"),"OUI","NON") -> NON
A34: Unité d'enseignement 5 | C34: Cours magistral | D34: =IF(OR(C34="Cours magistral",C34="Activité assimilée",C34="Travail de fin d'études",C34="Séminaire"),"OUI","NON") -> OUI | E34: 5 | G34: NON
A35: AA5.1 | D35: =IF(OR(C35="Cours magistral",C35="Activité assimilée",C35="Travail de fin d'études",C35="Séminaire"),"OUI","NON") -> NON
A36: AA5.2 | D36: =IF(OR(C36="Cours magistral",C36="Activité assimilée",C36="Travail de fin d'études",C36="Séminaire"),"OUI","NON") -> NON
A37: AA5.3 | D37: =IF(OR(C37="Cours magistral",C37="Activité assimilée",C37="Travail de fin d'études",C37="Séminaire"),"OUI","NON") -> NON
A38: AA5.4 | D38: =IF(OR(C38="Cours magistral",C38="Activité assimilée",C38="Travail de fin d'études",C38="Séminaire"),"OUI","NON") -> NON
A39: AA5.5 | D39: =IF(OR(C39="Cours magistral",C39="Activité assimilée",C39="Travail de fin d'études",C39="Séminaire"),"OUI","NON") -> NON
A40: Unité d'enseignement 6 | C40: Cours magistral | D40: =IF(OR(C40="Cours magistral",C40="Activité assimilée",C40="Travail de fin d'études",C40="Séminaire"),"OUI","NON") -> OUI | E40: 7 | G40: OUI
A41: AA6.1 | D41: =IF(OR(C41="Cours magistral",C41="Activité assimilée",C41="Travail de fin d'études",C41="Séminaire"),"OUI","NON") -> NON
A42: AA6.2 | D42: =IF(OR(C42="Cours magistral",C42="Activité assimilée",C42="Travail de fin d'études",C42="Séminaire"),"OUI","NON") -> NON
A43: AA6.3 | D43: =IF(OR(C43="Cours magistral",C43="Activité assimilée",C43="Travail de fin d'études",C43="Séminaire"),"OUI","NON") -> NON
A44: AA6.4 | D44: =IF(OR(C44="Cours magistral",C44="Activité assimilée",C44="Travail de fin d'études",C44="Séminaire"),"OUI","NON") -> NON
A45: AA6.5 | D45: =IF(OR(C45="Cours magistral",C45="Activité assimilée",C45="Travail de fin d'études",C45="Séminaire"),"OUI","NON") -> NON
A46: Unité d'enseignement 7 | C46: Travaux pratiques | D46: =IF(OR(C46="Cours magistral",C46="Activité assimilée",C46="Travail de fin d'études",C46="Séminaire"),"OUI","NON") -> NON | E46: 5 | G46: NON
A47: AA7.1 | D47: =IF(OR(C47="Cours magistral",C47="Activité assimilée",C47="Travail de fin d'études",C47="Séminaire"),"OUI","NON") -> NON
A48: AA7.2 | D48: =IF(OR(C48="Cours magistral",C48="Activité assimilée",C48="Travail de fin d'études",C48="Séminaire"),"OUI","NON") -> NON
A49: AA7.3 | D49: =IF(OR(C49="Cours magistral",C49="Activité assimilée",C49="Travail de fin d'études",C49="Séminaire"),"OUI","NON") -> NON
A50: AA7.4 | D50: =IF(OR(C50="Cours magistral",C50="Activité assimilée",C50="Travail de fin d'études",C50="Séminaire"),"OUI","NON") -> NON
A51: AA7.5 | D51: =IF(OR(C51="Cours magistral",C51="Activité assimilée",C51="Travail de fin d'études",C51="Séminaire"),"OUI","NON") -> NON
A52: Unité d'enseignement 8 | C52: Exercices dirigés | D52: =IF(OR(C52="Cours magistral",C52="Activité assimilée",C52="Travail de fin d'études",C52="Séminaire"),"OUI","NON") -> NON | E52: 7 | G52: NON
A53: AA8.1 | D53: =IF(OR(C53="Cours magistral",C53="Activité assimilée",C53="Travail de fin d'études",C53="Séminaire"),"OUI","NON") -> NON
A54: AA8.2 | D54: =IF(OR(C54="Cours magistral",C54="Activité assimilée",C54="Travail de fin d'études",C54="Séminaire"),"OUI","NON") -> NON
A55: AA8.3 | D55: =IF(OR(C55="Cours magistral",C55="Activité assimilée",C55="Travail de fin d'études",C55="Séminaire"),"OUI","NON") -> NON
A56: AA8.4 | D56: =IF(OR(C56="Cours magistral",C56="Activité assimilée",C56="Travail de fin d'études",C56="Séminaire"),"OUI","NON") -> NON
A57: AA8.5 | D57: =IF(OR(C57="Cours magistral",C57="Activité assimilée",C57="Travail de fin d'études",C57="Séminaire"),"OUI","NON") -> NON
A58: Unité d'enseignement 9 | C58: Séminaire | D58: =IF(OR(C58="Cours magistral",C58="Activité assimilée",C58="Travail de fin d'études",C58="Séminaire"),"OUI","NON") -> OUI | E58: 4 | G58: NON
A59: AA9.1 | D59: =IF(OR(C59="Cours magistral",C59="Activité assimilée",C59="Travail de fin d'études",C59="Séminaire"),"OUI","NON") -> NON
A60: AA9.2 | D60: =IF(OR(C60="Cours magistral",C60="Activité assimilée",C60="Travail de fin d'études",C60="Séminaire"),"OUI","NON") -> NON
A61: AA9.3 | D61: =IF(OR(C61="Cours magistral",C61="Activité assimilée",C61="Travail de fin d'études",C61="Séminaire"),"OUI","NON") -> NON
A62: AA9.4 | D62: =IF(OR(C62="Cours magistral",C62="Activité assimilée",C62="Travail de fin d'études",C62="Séminaire"),"OUI","NON") -> NON
A63: AA9.5 | D63: =IF(OR(C63="Cours magistral",C63="Activité assimilée",C63="Travail de fin d'études",C63="Séminaire"),"OUI","NON") -> NON
A64: Unité d'enseignement 10 | C64: Exercices dirigés | D64: =IF(OR(C64="Cours magistral",C64="Activité assimilée",C64="Travail de fin d'études",C64="Séminaire"),"OUI","NON") -> NON | E64: 5 | G64: NON
A65: AA10.1 | D65: =IF(OR(C65="Cours magistral",C65="Activité assimilée",C65="Travail de fin d'études",C65="Séminaire"),"OUI","NON") -> NON
A66: AA10.2 | D66: =IF(OR(C66="Cours magistral",C66="Activité assimilée",C66="Travail de fin d'études",C66="Séminaire"),"OUI","NON") -> NON
A67: AA10.3 | D67: =IF(OR(C67="Cours magistral",C67="Activité assimilée",C67="Travail de fin d'études",C67="Séminaire"),"OUI","NON") -> NON
A68: AA10.4 | D68: =IF(OR(C68="Cours magistral",C68="Activité assimilée",C68="Travail de fin d'études",C68="Séminaire"),"OUI","NON") -> NON
A69: AA10.5 | D69: =IF(OR(C69="Cours magistral",C69="Activité assimilée",C69="Travail de fin d'études",C69="Séminaire"),"OUI","NON") -> NON
A70: Unité d'enseignement 11 | C70: Travaux de laboratoires | D70: =IF(OR(C70="Cours magistral",C70="Activité assimilée",C70="Travail de fin d'études",C70="Séminaire"),"OUI","NON") -> NON | E70: 5 | G70: OUI
A71: AA11.1 | D71: =IF(OR(C71="Cours magistral",C71="Activité assimilée",C71="Travail de fin d'études",C71="Séminaire"),"OUI","NON") -> NON
A72: AA11.2 | D72: =IF(OR(C72="Cours magistral",C72="Activité assimilée",C72="Travail de fin d'études",C72="Séminaire"),"OUI","NON") -> NON
A73: AA11.3 | D73: =IF(OR(C73="Cours magistral",C73="Activité assimilée",C73="Travail de fin d'études",C73="Séminaire"),"OUI","NON") -> NON
A74: AA11.4 | D74: =IF(OR(C74="Cours magistral",C74="Activité assimilée",C74="Travail de fin d'études",C74="Séminaire"),"OUI","NON") -> NON
A75: AA11.5 | D75: =IF(OR(C75="Cours magistral",C75="Activité assimilée",C75="Travail de fin d'études",C75="Séminaire"),"OUI","NON") -> NON
A76: Unité d'enseignement 12 | C76: Travaux pratiques | D76: =IF(OR(C76="Cours magistral",C76="Activité assimilée",C76="Travail de fin d'études",C76="Séminaire"),"OUI","NON") -> NON | E76: 3 | G76: NON
A77: AA12.1 | D77: =IF(OR(C77="Cours magistral",C77="Activité assimilée",C77="Travail de fin d'études",C77="Séminaire"),"OUI","NON") -> NON
A78: AA12.2 | D78: =IF(OR(C78="Cours magistral",C78="Activité assimilée",C78="Travail de fin d'études",C78="Séminaire"),"OUI","NON") -> NON
A79: AA12.3 | D79: =IF(OR(C79="Cours magistral",C79="Activité assimilée",C79="Travail de fin d'études",C79="Séminaire"),"OUI","NON") -> NON
A80: AA12.4 | D80: =IF(OR(C80="Cours magistral",C80="Activité assimilée",C80="Travail de fin d'études",C80="Séminaire"),"OUI","NON") -> NON
A81: AA12.5 | D81: =IF(OR(C81="Cours magistral",C81="Activité assimilée",C81="Travail de fin d'études",C81="Séminaire"),"OUI","NON") -> NON
A82: Unité d'enseignement 13 | D82: =IF(OR(C82="Cours magistral",C82="Activité assimilée",C82="Travail de fin d'études",C82="Séminaire"),"OUI","NON") -> NON
A83: AA13.1 | D83: =IF(OR(C83="Cours magistral",C83="Activité assimilée",C83="Travail de fin d'études",C83="Séminaire"),"OUI","NON") -> NON
A84: AA13.2 | D84: =IF(OR(C84="Cours magistral",C84="Activité assimilée",C84="Travail de fin d'études",C84="Séminaire"),"OUI","NON") -> NON
A85: AA13.3 | D85: =IF(OR(C85="Cours magistral",C85="Activité assimilée",C85="Travail de fin d'études",C85="Séminaire"),"OUI","NON") -> NON
A86: AA13.4 | D86: =IF(OR(C86="Cours magistral",C86="Activité assimilée",C86="Travail de fin d'études",C86="Séminaire"),"OUI","NON") -> NON
A87: AA13.5 | D87: =IF(OR(C87="Cours magistral",C87="Activité assimilée",C87="Travail de fin d'études",C87="Séminaire"),"OUI","NON") -> NON
A88: Unité d'enseignement 14 | D88: =IF(OR(C88="Cours magistral",C88="Activité assimilée",C88="Travail de fin d'études",C88="Séminaire"),"OUI","NON") -> NON
... A159: AA25.5 | D159: =IF(OR(C159="Cours magistral",C159="Activité assimilée",C159="Travail de fin d'études",C159="Séminaire"),"OUI","NON") -> NON

Sheet Bachelier-bloc 2
A1: Etablissement: | B1: =SYNTHESE!$B$1 -> Haute école
C3: Sont considérées comme activités théoriques : les cours magistraux, les séminaires, les travaux de fin d’études et les activités assimilées
A4: Bachelier - BLOC 2
C5: Crédits théoriques | E5: =SUMIF(D10:D159,"OUI",E10:E159) -> 32
C6: Crédits théoriques avec doctorat | E6: =SUMIFS(E10:E159,D10:D159,"OUI",G10:G159,"OUI") -> 14
C7: Pourcentage | E7: =E6/E5 -> 0.4375
B9: Nom de l'UE / de l'AA | C9: Type d'activité d'apprentissage | D9: Théorique | E9: Crédits | F9: Nom et Prénom de l'enseignant.e | G9: Doctorat
A10: Unité d'enseignement 1 | C10: Cours magistral | D10: =IF(OR(C10="Cours magistral",C10="Activité assimilée",C10="Travail de fin d'études",C10="Séminaire"),"OUI","NON") -> OUI | E10: 2 | G10: OUI
A11: AA1.1 | D11: =IF(OR(C11="Cours magistral",C11="Activité assimilée",C11="Travail de fin d'études",C11="Séminaire"),"OUI","NON") -> NON
A12: AA1.2 | D12: =IF(OR(C12="Cours magistral",C12="Activité assimilée",C12="Travail de fin d'études",C12="Séminaire"),"OUI","NON") -> NON
A13: AA1.3 | D13: =IF(OR(C13="Cours magistral",C13="Activité assimilée",C13="Travail de fin d'études",C13="Séminaire"),"OUI","NON") -> NON
A14: AA1.4 | D14: =IF(OR(C14="Cours magistral",C14="Activité assimilée",C14="Travail de fin d'études",C14="Séminaire"),"OUI","NON") -> NON
A15: AA1.5 | D15: =IF(OR(C15="Cours magistral",C15="Activité assimilée",C15="Travail de fin d'études",C15="Séminaire"),"OUI","NON") -> NON
A16: Unité d'enseignement 2 | C16: Cours magistral | D16: =IF(OR(C16="Cours magistral",C16="Activité assimilée",C16="Travail de fin d'études",C16="Séminaire"),"OUI","NON") -> OUI | E16: 4 | G16: NON
A17: AA2.1 | D17: =IF(OR(C17="Cours magistral",C17="Activité assimilée",C17="Travail de fin d'études",C17="Séminaire"),"OUI","NON") -> NON
A18: AA2.2 | D18: =IF(OR(C18="Cours magistral",C18="Activité assimilée",C18="Travail de fin d'études",C18="Séminaire"),"OUI","NON") -> NON
A19: AA2.3 | D19: =IF(OR(C19="Cours magistral",C19="Activité assimilée",C19="Travail de fin d'études",C19="Séminaire"),"OUI","NON") -> NON
A20: AA2.4 | D20: =IF(OR(C20="Cours magistral",C20="Activité assimilée",C20="Travail de fin d'études",C20="Séminaire"),"OUI","NON") -> NON
A21: AA2.5 | D21: =IF(OR(C21="Cours magistral",C21="Activité assimilée",C21="Travail de fin d'études",C21="Séminaire"),"OUI","NON") -> NON
A22: Unité d'enseignement 3 | C22: Activité d'intégration professionnelle | D22: =IF(OR(C22="Cours magistral",C22="Activité assimilée",C22="Travail de fin d'études",C22="Séminaire"),"OUI","NON") -> NON | E22: 3 | G22: OUI
A23: AA3.1 | D23: =IF(OR(C23="Cours magistral",C23="Activité assimilée",C23="Travail de fin d'études",C23="Séminaire"),"OUI","NON") -> NON
A24: AA3.2 | D24: =IF(OR(C24="Cours magistral",C24="Activité assimilée",C24="Travail de fin d'études",C24="Séminaire"),"OUI","NON") -> NON
A25: AA3.3 | D25: =IF(OR(C25="Cours magistral",C25="Activité assimilée",C25="Travail de fin d'études",C25="Séminaire"),"OUI","NON") -> NON
A26: AA3.4 | D26: =IF(OR(C26="Cours magistral",C26="Activité assimilée",C26="Travail de fin d'études",C26="Séminaire"),"OUI","NON") -> NON
A27: AA3.5 | D27: =IF(OR(C27="Cours magistral",C27="Activité assimilée",C27="Travail de fin d'études",C27="Séminaire"),"OUI","NON") -> NON
A28: Unité d'enseignement 4 | C28: Travail de fin d'études | D28: =IF(OR(C28="Cours magistral",C28="Activité assimilée",C28="Travail de fin d'études",C28="Séminaire"),"OUI","NON") -> OUI | E28: 10 | G28: NON
A29: AA4.1 | D29: =IF(OR(C29="Cours magistral",C29="Activité assimilée",C29="Travail de fin d'études",C29="Séminaire"),"OUI","NON") -> NON
A30: AA4.2 | D30: =IF(OR(C30="Cours magistral",C30="Activité assimilée",C30="Travail de fin d'études",C30="Séminaire"),"OUI","NON") -> NON
A31: AA4.3 | D31: =IF(OR(C31="Cours magistral",C31="Activité assimilée",C31="Travail de fin d'études",C31="Séminaire"),"OUI","NON") -> NON
A32: AA4.4 | D32: =IF(OR(C32="Cours magistral",C32="Activité assimilée",C32="Travail de fin d'études",C32="Séminaire"),"OUI","NON") -> NON
A33: AA4.5 | D33: =IF(OR(C33="Cours magistral",C33="Activité assimilée",C33="Travail de fin d'études",C33="Séminaire"),"OUI","NON") -> NON
A34: Unité d'enseignement 5 | C34: Cours magistral | D34: =IF(OR(C34="Cours magistral",C34="Activité assimilée",C34="Travail de fin d'études",C34="Séminaire"),"OUI","NON") -> OUI | E34: 5 | G34: OUI
A35: AA5.1 | D35: =IF(OR(C35="Cours magistral",C35="Activité assimilée",C35="Travail de fin d'études",C35="Séminaire"),"OUI","NON") -> NON
A36: AA5.2 | D36: =IF(OR(C36="Cours magistral",C36="Activité assimilée",C36="Travail de fin d'études",C36="Séminaire"),"OUI","NON") -> NON
A37: AA5.3 | D37: =IF(OR(C37="Cours magistral",C37="Activité assimilée",C37="Travail de fin d'études",C37="Séminaire"),"OUI","NON") -> NON
A38: AA5.4 | D38: =IF(OR(C38="Cours magistral",C38="Activité assimilée",C38="Travail de fin d'études",C38="Séminaire"),"OUI","NON") -> NON
A39: AA5.5 | D39: =IF(OR(C39="Cours magistral",C39="Activité assimilée",C39="Travail de fin d'études",C39="Séminaire"),"OUI","NON") -> NON
A40: Unité d'enseignement 6 | C40: Cours magistral | D40: =IF(OR(C40="Cours magistral",C40="Activité assimilée",C40="Travail de fin d'études",C40="Séminaire"),"OUI","NON") -> OUI | E40: 7 | G40: OUI
A41: AA6.1 | D41: =IF(OR(C41="Cours magistral",C41="Activité assimilée",C41="Travail de fin d'études",C41="Séminaire"),"OUI","NON") -> NON
A42: AA6.2 | D42: =IF(OR(C42="Cours magistral",C42="Activité assimilée",C42="Travail de fin d'études",C42="Séminaire"),"OUI","NON") -> NON
A43: AA6.3 | D43: =IF(OR(C43="Cours magistral",C43="Activité assimilée",C43="Travail de fin d'études",C43="Séminaire"),"OUI","NON") -> NON
A44: AA6.4 | D44: =IF(OR(C44="Cours magistral",C44="Activité assimilée",C44="Travail de fin d'études",C44="Séminaire"),"OUI","NON") -> NON
A45: AA6.5 | D45: =IF(OR(C45="Cours magistral",C45="Activité assimilée",C45="Travail de fin d'études",C45="Séminaire"),"OUI","NON") -> NON
A46: Unité d'enseignement 7 | C46: Travaux pratiques | D46: =IF(OR(C46="Cours magistral",C46="Activité assimilée",C46="Travail de fin d'études",C46="Séminaire"),"OUI","NON") -> NON | E46: 5 | G46: NON
A47: AA7.1 | D47: =IF(OR(C47="Cours magistral",C47="Activité assimilée",C47="Travail de fin d'études",C47="Séminaire"),"OUI","NON") -> NON
A48: AA7.2 | D48: =IF(OR(C48="Cours magistral",C48="Activité assimilée",C48="Travail de fin d'études",C48="Séminaire"),"OUI","NON") -> NON
A49: AA7.3 | D49: =IF(OR(C49="Cours magistral",C49="Activité assimilée",C49="Travail de fin d'études",C49="Séminaire"),"OUI","NON") -> NON
A50: AA7.4 | D50: =IF(OR(C50="Cours magistral",C50="Activité assimilée",C50="Travail de fin d'études",C50="Séminaire"),"OUI","NON") -> NON
A51: AA7.5 | D51: =IF(OR(C51="Cours magistral",C51="Activité assimilée",C51="Travail de fin d'études",C51="Séminaire"),"OUI","NON") -> NON
A52: Unité d'enseignement 8 | C52: Exercices dirigés | D52: =IF(OR(C52="Cours magistral",C52="Activité assimilée",C52="Travail de fin d'études",C52="Séminaire"),"OUI","NON") -> NON | E52: 7 | G52: NON
A53: AA8.1 | D53: =IF(OR(C53="Cours magistral",C53="Activité assimilée",C53="Travail de fin d'études",C53="Séminaire"),"OUI","NON") -> NON
A54: AA8.2 | D54: =IF(OR(C54="Cours magistral",C54="Activité assimilée",C54="Travail de fin d'études",C54="Séminaire"),"OUI","NON") -> NON
A55: AA8.3 | D55: =IF(OR(C55="Cours magistral",C55="Activité assimilée",C55="Travail de fin d'études",C55="Séminaire"),"OUI","NON") -> NON
A56: AA8.4 | D56: =IF(OR(C56="Cours magistral",C56="Activité assimilée",C56="Travail de fin d'études",C56="Séminaire"),"OUI","NON") -> NON
A57: AA8.5 | D57: =IF(OR(C57="Cours magistral",C57="Activité assimilée",C57="Travail de fin d'études",C57="Séminaire"),"OUI","NON") -> NON
A58: Unité d'enseignement 9 | C58: Séminaire | D58: =IF(OR(C58="Cours magistral",C58="Activité assimilée",C58="Travail de fin d'études",C58="Séminaire"),"OUI","NON") -> OUI | E58: 4 | G58: NON
A59: AA9.1 | D59: =IF(OR(C59="Cours magistral",C59="Activité assimilée",C59="Travail de fin d'études",C59="Séminaire"),"OUI","NON") -> NON
A60: AA9.2 | D60: =IF(OR(C60="Cours magistral",C60="Activité assimilée",C60="Travail de fin d'études",C60="Séminaire"),"OUI","NON") -> NON
A61: AA9.3 | D61: =IF(OR(C61="Cours magistral",C61="Activité assimilée",C61="Travail de fin d'études",C61="Séminaire"),"OUI","NON") -> NON
A62: AA9.4 | D62: =IF(OR(C62="Cours magistral",C62="Activité assimilée",C62="Travail de fin d'études",C62="Séminaire"),"OUI","NON") -> NON
A63: AA9.5 | D63: =IF(OR(C63="Cours magistral",C63="Activité assimilée",C63="Travail de fin d'études",C63="Séminaire"),"OUI","NON") -> NON
A64: Unité d'enseignement 10 | C64: Exercices dirigés | D64: =IF(OR(C64="Cours magistral",C64="Activité assimilée",C64="Travail de fin d'études",C64="Séminaire"),"OUI","NON") -> NON | E64: 5 | G64: NON
A65: AA10.1 | D65: =IF(OR(C65="Cours magistral",C65="Activité assimilée",C65="Travail de fin d'études",C65="Séminaire"),"OUI","NON") -> NON
A66: AA10.2 | D66: =IF(OR(C66="Cours magistral",C66="Activité assimilée",C66="Travail de fin d'études",C66="Séminaire"),"OUI","NON") -> NON
A67: AA10.3 | D67: =IF(OR(C67="Cours magistral",C67="Activité assimilée",C67="Travail de fin d'études",C67="Séminaire"),"OUI","NON") -> NON
A68: AA10.4 | D68: =IF(OR(C68="Cours magistral",C68="Activité assimilée",C68="Travail de fin d'études",C68="Séminaire"),"OUI","NON") -> NON
A69: AA10.5 | D69: =IF(OR(C69="Cours magistral",C69="Activité assimilée",C69="Travail de fin d'études",C69="Séminaire"),"OUI","NON") -> NON
A70: Unité d'enseignement 11 | C70: Travaux de laboratoires | D70: =IF(OR(C70="Cours magistral",C70="Activité assimilée",C70="Travail de fin d'études",C70="Séminaire"),"OUI","NON") -> NON | E70: 5 | G70: OUI
A71: AA11.1 | D71: =IF(OR(C71="Cours magistral",C71="Activité assimilée",C71="Travail de fin d'études",C71="Séminaire"),"OUI","NON") -> NON
A72: AA11.2 | D72: =IF(OR(C72="Cours magistral",C72="Activité assimilée",C72="Travail de fin d'études",C72="Séminaire"),"OUI","NON") -> NON
A73: AA11.3 | D73: =IF(OR(C73="Cours magistral",C73="Activité assimilée",C73="Travail de fin d'études",C73="Séminaire"),"OUI","NON") -> NON
A74: AA11.4 | D74: =IF(OR(C74="Cours magistral",C74="Activité assimilée",C74="Travail de fin d'études",C74="Séminaire"),"OUI","NON") -> NON
A75: AA11.5 | D75: =IF(OR(C75="Cours magistral",C75="Activité assimilée",C75="Travail de fin d'études",C75="Séminaire"),"OUI","NON") -> NON
A76: Unité d'enseignement 12 | C76: Travaux pratiques | D76: =IF(OR(C76="Cours magistral",C76="Activité assimilée",C76="Travail de fin d'études",C76="Séminaire"),"OUI","NON") -> NON | E76: 3 | G76: NON
A77: AA12.1 | D77: =IF(OR(C77="Cours magistral",C77="Activité assimilée",C77="Travail de fin d'études",C77="Séminaire"),"OUI","NON") -> NON
A78: AA12.2 | D78: =IF(OR(C78="Cours magistral",C78="Activité assimilée",C78="Travail de fin d'études",C78="Séminaire"),"OUI","NON") -> NON
A79: AA12.3 | D79: =IF(OR(C79="Cours magistral",C79="Activité assimilée",C79="Travail de fin d'études",C79="Séminaire"),"OUI","NON") -> NON
A80: AA12.4 | D80: =IF(OR(C80="Cours magistral",C80="Activité assimilée",C80="Travail de fin d'études",C80="Séminaire"),"OUI","NON") -> NON
A81: AA12.5 | D81: =IF(OR(C81="Cours magistral",C81="Activité assimilée",C81="Travail de fin d'études",C81="Séminaire"),"OUI","NON") -> NON
A82: Unité d'enseignement 13 | D82: =IF(OR(C82="Cours magistral",C82="Activité assimilée",C82="Travail de fin d'études",C82="Séminaire"),"OUI","NON") -> NON
A83: AA13.1 | D83: =IF(OR(C83="Cours magistral",C83="Activité assimilée",C83="Travail de fin d'études",C83="Séminaire"),"OUI","NON") -> NON
A84: AA13.2 | D84: =IF(OR(C84="Cours magistral",C84="Activité assimilée",C84="Travail de fin d'études",C84="Séminaire"),"OUI","NON") -> NON
A85: AA13.3 | D85: =IF(OR(C85="Cours magistral",C85="Activité assimilée",C85="Travail de fin d'études",C85="Séminaire"),"OUI","NON") -> NON
A86: AA13.4 | D86: =IF(OR(C86="Cours magistral",C86="Activité assimilée",C86="Travail de fin d'études",C86="Séminaire"),"OUI","NON") -> NON
A87: AA13.5 | D87: =IF(OR(C87="Cours magistral",C87="Activité assimilée",C87="Travail de fin d'études",C87="Séminaire"),"OUI","NON") -> NON
A88: Unité d'enseignement 14 | D88: =IF(OR(C88="Cours magistral",C88="Activité assimilée",C88="Travail de fin d'études",C88="Séminaire"),"OUI","NON") -> NON
... A159: AA25.5 | D159: =IF(OR(C159="Cours magistral",C159="Activité assimilée",C159="Travail de fin d'études",C159="Séminaire"),"OUI","NON") -> NON

Sheet Bachelier-bloc 3
A1: Etablissement: | B1: =SYNTHESE!$B$1 -> Haute école
C3: Sont considérées comme activités théoriques : les cours magistraux, les séminaires, les travaux de fin d’études et les activités assimilées
A4: Bachelier - BLOC 3
C5: Crédits théoriques | E5: =SUMIF(D10:D159,"OUI",E10:E159) -> 32
C6: Crédits théoriques avec doctorat | E6: =SUMIFS(E10:E159,D10:D159,"OUI",G10:G159,"OUI") -> 19
C7: Pourcentage | E7: =E6/E5 -> 0.59375
B9: Nom de l'UE / de l'AA | C9: Type d'activité d'apprentissage | D9: Théorique | E9: Crédits | F9: Nom et Prénom de l'enseignant.e | G9: Doctorat
A10: Unité d'enseignement 1 | C10: Cours magistral | D10: =IF(OR(C10="Cours magistral",C10="Activité assimilée",C10="Travail de fin d'études",C10="Séminaire"),"OUI","NON") -> OUI | E10: 2 | G10: OUI
A11: AA1.1 | D11: =IF(OR(C11="Cours magistral",C11="Activité assimilée",C11="Travail de fin d'études",C11="Séminaire"),"OUI","NON") -> NON
A12: AA1.2 | D12: =IF(OR(C12="Cours magistral",C12="Activité assimilée",C12="Travail de fin d'études",C12="Séminaire"),"OUI","NON") -> NON
A13: AA1.3 | D13: =IF(OR(C13="Cours magistral",C13="Activité assimilée",C13="Travail de fin d'études",C13="Séminaire"),"OUI","NON") -> NON
A14: AA1.4 | D14: =IF(OR(C14="Cours magistral",C14="Activité assimilée",C14="Travail de fin d'études",C14="Séminaire"),"OUI","NON") -> NON
A15: AA1.5 | D15: =IF(OR(C15="Cours magistral",C15="Activité assimilée",C15="Travail de fin d'études",C15="Séminaire"),"OUI","NON") -> NON
A16: Unité d'enseignement 2 | C16: Cours magistral | D16: =IF(OR(C16="Cours magistral",C16="Activité assimilée",C16="Travail de fin d'études",C16="Séminaire"),"OUI","NON") -> OUI | E16: 4 | G16: NON
A17: AA2.1 | D17: =IF(OR(C17="Cours magistral",C17="Activité assimilée",C17="Travail de fin d'études",C17="Séminaire"),"OUI","NON") -> NON
A18: AA2.2 | D18: =IF(OR(C18="Cours magistral",C18="Activité assimilée",C18="Travail de fin d'études",C18="Séminaire"),"OUI","NON") -> NON
A19: AA2.3 | D19: =IF(OR(C19="Cours magistral",C19="Activité assimilée",C19="Travail de fin d'études",C19="Séminaire"),"OUI","NON") -> NON
A20: AA2.4 | D20: =IF(OR(C20="Cours magistral",C20="Activité assimilée",C20="Travail de fin d'études",C20="Séminaire"),"OUI","NON") -> NON
A21: AA2.5 | D21: =IF(OR(C21="Cours magistral",C21="Activité assimilée",C21="Travail de fin d'études",C21="Séminaire"),"OUI","NON") -> NON
A22: Unité d'enseignement 3 | C22: Activité d'intégration professionnelle | D22: =IF(OR(C22="Cours magistral",C22="Activité assimilée",C22="Travail de fin d'études",C22="Séminaire"),"OUI","NON") -> NON | E22: 3 | G22: OUI
A23: AA3.1 | D23: =IF(OR(C23="Cours magistral",C23="Activité assimilée",C23="Travail de fin d'études",C23="Séminaire"),"OUI","NON") -> NON
A24: AA3.2 | D24: =IF(OR(C24="Cours magistral",C24="Activité assimilée",C24="Travail de fin d'études",C24="Séminaire"),"OUI","NON") -> NON
A25: AA3.3 | D25: =IF(OR(C25="Cours magistral",C25="Activité assimilée",C25="Travail de fin d'études",C25="Séminaire"),"OUI","NON") -> NON
A26: AA3.4 | D26: =IF(OR(C26="Cours magistral",C26="Activité assimilée",C26="Travail de fin d'études",C26="Séminaire"),"OUI","NON") -> NON
A27: AA3.5 | D27: =IF(OR(C27="Cours magistral",C27="Activité assimilée",C27="Travail de fin d'études",C27="Séminaire"),"OUI","NON") -> NON
A28: Unité d'enseignement 4 | C28: Travail de fin d'études | D28: =IF(OR(C28="Cours magistral",C28="Activité assimilée",C28="Travail de fin d'études",C28="Séminaire"),"OUI","NON") -> OUI | E28: 10 | G28: OUI
A29: AA4.1 | D29: =IF(OR(C29="Cours magistral",C29="Activité assimilée",C29="Travail de fin d'études",C29="Séminaire"),"OUI","NON") -> NON
A30: AA4.2 | D30: =IF(OR(C30="Cours magistral",C30="Activité assimilée",C30="Travail de fin d'études",C30="Séminaire"),"OUI","NON") -> NON
A31: AA4.3 | D31: =IF(OR(C31="Cours magistral",C31="Activité assimilée",C31="Travail de fin d'études",C31="Séminaire"),"OUI","NON") -> NON
A32: AA4.4 | D32: =IF(OR(C32="Cours magistral",C32="Activité assimilée",C32="Travail de fin d'études",C32="Séminaire"),"OUI","NON") -> NON
A33: AA4.5 | D33: =IF(OR(C33="Cours magistral",C33="Activité assimilée",C33="Travail de fin d'études",C33="Séminaire"),"OUI","NON") -> NON
A34: Unité d'enseignement 5 | C34: Cours magistral | D34: =IF(OR(C34="Cours magistral",C34="Activité assimilée",C34="Travail de fin d'études",C34="Séminaire"),"OUI","NON") -> OUI | E34: 5 | G34: NON
A35: AA5.1 | D35: =IF(OR(C35="Cours magistral",C35="Activité assimilée",C35="Travail de fin d'études",C35="Séminaire"),"OUI","NON") -> NON
A36: AA5.2 | D36: =IF(OR(C36="Cours magistral",C36="Activité assimilée",C36="Travail de fin d'études",C36="Séminaire"),"OUI","NON") -> NON
A37: AA5.3 | D37: =IF(OR(C37="Cours magistral",C37="Activité assimilée",C37="Travail de fin d'études",C37="Séminaire"),"OUI","NON") -> NON
A38: AA5.4 | D38: =IF(OR(C38="Cours magistral",C38="Activité assimilée",C38="Travail de fin d'études",C38="Séminaire"),"OUI","NON") -> NON
A39: AA5.5 | D39: =IF(OR(C39="Cours magistral",C39="Activité assimilée",C39="Travail de fin d'études",C39="Séminaire"),"OUI","NON") -> NON
A40: Unité d'enseignement 6 | C40: Cours magistral | D40: =IF(OR(C40="Cours magistral",C40="Activité assimilée",C40="Travail de fin d'études",C40="Séminaire"),"OUI","NON") -> OUI | E40: 7 | G40: OUI
A41: AA6.1 | D41: =IF(OR(C41="Cours magistral",C41="Activité assimilée",C41="Travail de fin d'études",C41="Séminaire"),"OUI","NON") -> NON
A42: AA6.2 | D42: =IF(OR(C42="Cours magistral",C42="Activité assimilée",C42="Travail de fin d'études",C42="Séminaire"),"OUI","NON") -> NON
A43: AA6.3 | D43: =IF(OR(C43="Cours magistral",C43="Activité assimilée",C43="Travail de fin d'études",C43="Séminaire"),"OUI","NON") -> NON
A44: AA6.4 | D44: =IF(OR(C44="Cours magistral",C44="Activité assimilée",C44="Travail de fin d'études",C44="Séminaire"),"OUI","NON") -> NON
A45: AA6.5 | D45: =IF(OR(C45="Cours magistral",C45="Activité assimilée",C45="Travail de fin d'études",C45="Séminaire"),"OUI","NON") -> NON
A46: Unité d'enseignement 7 | C46: Travaux pratiques | D46: =IF(OR(C46="Cours magistral",C46="Activité assimilée",C46="Travail de fin d'études",C46="Séminaire"),"OUI","NON") -> NON | E46: 5 | G46: NON
A47: AA7.1 | D47: =IF(OR(C47="Cours magistral",C47="Activité assimilée",C47="Travail de fin d'études",C47="Séminaire"),"OUI","NON") -> NON
A48: AA7.2 | D48: =IF(OR(C48="Cours magistral",C48="Activité assimilée",C48="Travail de fin d'études",C48="Séminaire"),"OUI","NON") -> NON
A49: AA7.3 | D49: =IF(OR(C49="Cours magistral",C49="Activité assimilée",C49="Travail de fin d'études",C49="Séminaire"),"OUI","NON") -> NON
A50: AA7.4 | D50: =IF(OR(C50="Cours magistral",C50="Activité assimilée",C50="Travail de fin d'études",C50="Séminaire"),"OUI","NON") -> NON
A51: AA7.5 | D51: =IF(OR(C51="Cours magistral",C51="Activité assimilée",C51="Travail de fin d'études",C51="Séminaire"),"OUI","NON") -> NON
A52: Unité d'enseignement 8 | C52: Exercices dirigés | D52: =IF(OR(C52="Cours magistral",C52="Activité assimilée",C52="Travail de fin d'études",C52="Séminaire"),"OUI","NON") -> NON | E52: 7 | G52: NON
A53: AA8.1 | D53: =IF(OR(C53="Cours magistral",C53="Activité assimilée",C53="Travail de fin d'études",C53="Séminaire"),"OUI","NON") -> NON
A54: AA8.2 | D54: =IF(OR(C54="Cours magistral",C54="Activité assimilée",C54="Travail de fin d'études",C54="Séminaire"),"OUI","NON") -> NON
A55: AA8.3 | D55: =IF(OR(C55="Cours magistral",C55="Activité assimilée",C55="Travail de fin d'études",C55="Séminaire"),"OUI","NON") -> NON
A56: AA8.4 | D56: =IF(OR(C56="Cours magistral",C56="Activité assimilée",C56="Travail de fin d'études",C56="Séminaire"),"OUI","NON") -> NON
A57: AA8.5 | D57: =IF(OR(C57="Cours magistral",C57="Activité assimilée",C57="Travail de fin d'études",C57="Séminaire"),"OUI","NON") -> NON
A58: Unité d'enseignement 9 | C58: Séminaire | D58: =IF(OR(C58="Cours magistral",C58="Activité assimilée",C58="Travail de fin d'études",C58="Séminaire"),"OUI","NON") -> OUI | E58: 4 | G58: NON
A59: AA9.1 | D59: =IF(OR(C59="Cours magistral",C59="Activité assimilée",C59="Travail de fin d'études",C59="Séminaire"),"OUI","NON") -> NON
A60: AA9.2 | D60: =IF(OR(C60="Cours magistral",C60="Activité assimilée",C60="Travail de fin d'études",C60="Séminaire"),"OUI","NON") -> NON
A61: AA9.3 | D61: =IF(OR(C61="Cours magistral",C61="Activité assimilée",C61="Travail de fin d'études",C61="Séminaire"),"OUI","NON") -> NON
A62: AA9.4 | D62: =IF(OR(C62="Cours magistral",C62="Activité assimilée",C62="Travail de fin d'études",C62="Séminaire"),"OUI","NON") -> NON
A63: AA9.5 | D63: =IF(OR(C63="Cours magistral",C63="Activité assimilée",C63="Travail de fin d'études",C63="Séminaire"),"OUI","NON") -> NON
A64: Unité d'enseignement 10 | C64: Exercices dirigés | D64: =IF(OR(C64="Cours magistral",C64="Activité assimilée",C64="Travail de fin d'études",C64="Séminaire"),"OUI","NON") -> NON | E64: 5 | G64: NON
A65: AA10.1 | D65: =IF(OR(C65="Cours magistral",C65="Activité assimilée",C65="Travail de fin d'études",C65="Séminaire"),"OUI","NON") -> NON
A66: AA10.2 | D66: =IF(OR(C66="Cours magistral",C66="Activité assimilée",C66="Travail de fin d'études",C66="Séminaire"),"OUI","NON") -> NON
A67: AA10.3 | D67: =IF(OR(C67="Cours magistral",C67="Activité assimilée",C67="Travail de fin d'études",C67="Séminaire"),"OUI","NON") -> NON
A68: AA10.4 | D68: =IF(OR(C68="Cours magistral",C68="Activité assimilée",C68="Travail de fin d'études",C68="Séminaire"),"OUI","NON") -> NON
A69: AA10.5 | D69: =IF(OR(C69="Cours magistral",C69="Activité assimilée",C69="Travail de fin d'études",C69="Séminaire"),"OUI","NON") -> NON
A70: Unité d'enseignement 11 | C70: Travaux de laboratoires | D70: =IF(OR(C70="Cours magistral",C70="Activité assimilée",C70="Travail de fin d'études",C70="Séminaire"),"OUI","NON") -> NON | E70: 5 | G70: OUI
A71: AA11.1 | D71: =IF(OR(C71="Cours magistral",C71="Activité assimilée",C71="Travail de fin d'études",C71="Séminaire"),"OUI","NON") -> NON
A72: AA11.2 | D72: =IF(OR(C72="Cours magistral",C72="Activité assimilée",C72="Travail de fin d'études",C72="Séminaire"),"OUI","NON") -> NON
A73: AA11.3 | D73: =IF(OR(C73="Cours magistral",C73="Activité assimilée",C73="Travail de fin d'études",C73="Séminaire"),"OUI","NON") -> NON
A74: AA11.4 | D74: =IF(OR(C74="Cours magistral",C74="Activité assimilée",C74="Travail de fin d'études",C74="Séminaire"),"OUI","NON") -> NON
A75: AA11.5 | D75: =IF(OR(C75="Cours magistral",C75="Activité assimilée",C75="Travail de fin d'études",C75="Séminaire"),"OUI","NON") -> NON
A76: Unité d'enseignement 12 | C76: Travaux pratiques | D76: =IF(OR(C76="Cours magistral",C76="Activité assimilée",C76="Travail de fin d'études",C76="Séminaire"),"OUI","NON") -> NON | E76: 3 | G76: NON
A77: AA12.1 | D77: =IF(OR(C77="Cours magistral",C77="Activité assimilée",C77="Travail de fin d'études",C77="Séminaire"),"OUI","NON") -> NON
A78: AA12.2 | D78: =IF(OR(C78="Cours magistral",C78="Activité assimilée",C78="Travail de fin d'études",C78="Séminaire"),"OUI","NON") -> NON
A79: AA12.3 | D79: =IF(OR(C79="Cours magistral",C79="Activité assimilée",C79="Travail de fin d'études",C79="Séminaire"),"OUI","NON") -> NON
A80: AA12.4 | D80: =IF(OR(C80="Cours magistral",C80="Activité assimilée",C80="Travail de fin d'études",C80="Séminaire"),"OUI","NON") -> NON
A81: AA12.5 | D81: =IF(OR(C81="Cours magistral",C81="Activité assimilée",C81="Travail de fin d'études",C81="Séminaire"),"OUI","NON") -> NON
A82: Unité d'enseignement 13 | D82: =IF(OR(C82="Cours magistral",C82="Activité assimilée",C82="Travail de fin d'études",C82="Séminaire"),"OUI","NON") -> NON
A83: AA13.1 | D83: =IF(OR(C83="Cours magistral",C83="Activité assimilée",C83="Travail de fin d'études",C83="Séminaire"),"OUI","NON") -> NON
A84: AA13.2 | D84: =IF(OR(C84="Cours magistral",C84="Activité assimilée",C84="Travail de fin d'études",C84="Séminaire"),"OUI","NON") -> NON
A85: AA13.3 | D85: =IF(OR(C85="Cours magistral",C85="Activité assimilée",C85="Travail de fin d'études",C85="Séminaire"),"OUI","NON") -> NON
A86: AA13.4 | D86: =IF(OR(C86="Cours magistral",C86="Activité assimilée",C86="Travail de fin d'études",C86="Séminaire"),"OUI","NON") -> NON
A87: AA13.5 | D87: =IF(OR(C87="Cours magistral",C87="Activité assimilée",C87="Travail de fin d'études",C87="Séminaire"),"OUI","NON") -> NON
A88: Unité d'enseignement 14 | D88: =IF(OR(C88="Cours magistral",C88="Activité assimilée",C88="Travail de fin d'études",C88="Séminaire"),"OUI","NON") -> NON
... A159: AA25.5 | D159: =IF(OR(C159="Cours magistral",C159="Activité assimilée",C159="Travail de fin d'études",C159="Séminaire"),"OUI","NON") -> NON

Sheet Master-Bloc1
A1: Etablissement: | B1: =SYNTHESE!$B$1 -> Haute école
C3: Sont considérées comme activités théoriques : les cours magistraux, les séminaires, les travaux de fin d’études et les activités assimilées
A4: Master - BLOC 1
C5: Crédits théoriques | E5: =SUMIF(D10:D159,"OUI",E10:E159) -> 29
C6: Crédits théoriques avec doctorat | E6: =SUMIFS(E10:E159,D10:D159,"OUI",G10:G159,"OUI") -> 13
C7: Pourcentage | E7: =E6/E5 -> 0.44827586
B9: Nom de l'UE / de l'AA | C9: Type d'activité d'apprentissage | D9: Théorique | E9: Crédits | F9: Nom et Prénom de l'enseignant.e | G9: Doctorat
A10: Unité d'enseignement 1 | C10: Cours magistral | D10: =IF(OR(C10="Cours magistral",C10="Activité assimilée",C10="Travail de fin d'études",C10="Séminaire"),"OUI","NON") -> OUI | E10: 2 | G10: OUI
A11: AA1.1 | D11: =IF(OR(C11="Cours magistral",C11="Activité assimilée",C11="Travail de fin d'études",C11="Séminaire"),"OUI","NON") -> NON
A12: AA1.2 | D12: =IF(OR(C12="Cours magistral",C12="Activité assimilée",C12="Travail de fin d'études",C12="Séminaire"),"OUI","NON") -> NON
A13: AA1.3 | D13: =IF(OR(C13="Cours magistral",C13="Activité assimilée",C13="Travail de fin d'études",C13="Séminaire"),"OUI","NON") -> NON
A14: AA1.4 | D14: =IF(OR(C14="Cours magistral",C14="Activité assimilée",C14="Travail de fin d'études",C14="Séminaire"),"OUI","NON") -> NON
A15: AA1.5 | D15: =IF(OR(C15="Cours magistral",C15="Activité assimilée",C15="Travail de fin d'études",C15="Séminaire"),"OUI","NON") -> NON
A16: Unité d'enseignement 2 | C16: Cours magistral | D16: =IF(OR(C16="Cours magistral",C16="Activité assimilée",C16="Travail de fin d'études",C16="Séminaire"),"OUI","NON") -> OUI | E16: 4 | G16: NON
A17: AA2.1 | D17: =IF(OR(C17="Cours magistral",C17="Activité assimilée",C17="Travail de fin d'études",C17="Séminaire"),"OUI","NON") -> NON
A18: AA2.2 | D18: =IF(OR(C18="Cours magistral",C18="Activité assimilée",C18="Travail de fin d'études",C18="Séminaire"),"OUI","NON") -> NON
A19: AA2.3 | D19: =IF(OR(C19="Cours magistral",C19="Activité assimilée",C19="Travail de fin d'études",C19="Séminaire"),"OUI","NON") -> NON
A20: AA2.4 | D20: =IF(OR(C20="Cours magistral",C20="Activité assimilée",C20="Travail de fin d'études",C20="Séminaire"),"OUI","NON") -> NON
A21: AA2.5 | D21: =IF(OR(C21="Cours magistral",C21="Activité assimilée",C21="Travail de fin d'études",C21="Séminaire"),"OUI","NON") -> NON
A22: Unité d'enseignement 3 | C22: Activité d'intégration professionnelle | D22: =IF(OR(C22="Cours magistral",C22="Activité assimilée",C22="Travail de fin d'études",C22="Séminaire"),"OUI","NON") -> NON | E22: 3 | G22: OUI
A23: AA3.1 | D23: =IF(OR(C23="Cours magistral",C23="Activité assimilée",C23="Travail de fin d'études",C23="Séminaire"),"OUI","NON") -> NON
A24: AA3.2 | D24: =IF(OR(C24="Cours magistral",C24="Activité assimilée",C24="Travail de fin d'études",C24="Séminaire"),"OUI","NON") -> NON
A25: AA3.3 | D25: =IF(OR(C25="Cours magistral",C25="Activité assimilée",C25="Travail de fin d'études",C25="Séminaire"),"OUI","NON") -> NON
A26: AA3.4 | D26: =IF(OR(C26="Cours magistral",C26="Activité assimilée",C26="Travail de fin d'études",C26="Séminaire"),"OUI","NON") -> NON
A27: AA3.5 | D27: =IF(OR(C27="Cours magistral",C27="Activité assimilée",C27="Travail de fin d'études",C27="Séminaire"),"OUI","NON") -> NON
A28: Unité d'enseignement 4 | C28: Cours magistral | D28: =IF(OR(C28="Cours magistral",C28="Activité assimilée",C28="Travail de fin d'études",C28="Séminaire"),"OUI","NON") -> OUI | E28: 7 | G28: NON
A29: AA4.1 | D29: =IF(OR(C29="Cours magistral",C29="Activité assimilée",C29="Travail de fin d'études",C29="Séminaire"),"OUI","NON") -> NON
A30: AA4.2 | D30: =IF(OR(C30="Cours magistral",C30="Activité assimilée",C30="Travail de fin d'études",C30="Séminaire"),"OUI","NON") -> NON
A31: AA4.3 | D31: =IF(OR(C31="Cours magistral",C31="Activité assimilée",C31="Travail de fin d'études",C31="Séminaire"),"OUI","NON") -> NON
A32: AA4.4 | D32: =IF(OR(C32="Cours magistral",C32="Activité assimilée",C32="Travail de fin d'études",C32="Séminaire"),"OUI","NON") -> NON
A33: AA4.5 | D33: =IF(OR(C33="Cours magistral",C33="Activité assimilée",C33="Travail de fin d'études",C33="Séminaire"),"OUI","NON") -> NON
A34: Unité d'enseignement 5 | C34: Cours magistral | D34: =IF(OR(C34="Cours magistral",C34="Activité assimilée",C34="Travail de fin d'études",C34="Séminaire"),"OUI","NON") -> OUI | E34: 5 | G34: NON
A35: AA5.1 | D35: =IF(OR(C35="Cours magistral",C35="Activité assimilée",C35="Travail de fin d'études",C35="Séminaire"),"OUI","NON") -> NON
A36: AA5.2 | D36: =IF(OR(C36="Cours magistral",C36="Activité assimilée",C36="Travail de fin d'études",C36="Séminaire"),"OUI","NON") -> NON
A37: AA5.3 | D37: =IF(OR(C37="Cours magistral",C37="Activité assimilée",C37="Travail de fin d'études",C37="Séminaire"),"OUI","NON") -> NON
A38: AA5.4 | D38: =IF(OR(C38="Cours magistral",C38="Activité assimilée",C38="Travail de fin d'études",C38="Séminaire"),"OUI","NON") -> NON
A39: AA5.5 | D39: =IF(OR(C39="Cours magistral",C39="Activité assimilée",C39="Travail de fin d'études",C39="Séminaire"),"OUI","NON") -> NON
A40: Unité d'enseignement 6 | C40: Cours magistral | D40: =IF(OR(C40="Cours magistral",C40="Activité assimilée",C40="Travail de fin d'études",C40="Séminaire"),"OUI","NON") -> OUI | E40: 7 | G40: OUI
A41: AA6.1 | D41: =IF(OR(C41="Cours magistral",C41="Activité assimilée",C41="Travail de fin d'études",C41="Séminaire"),"OUI","NON") -> NON
A42: AA6.2 | D42: =IF(OR(C42="Cours magistral",C42="Activité assimilée",C42="Travail de fin d'études",C42="Séminaire"),"OUI","NON") -> NON
A43: AA6.3 | D43: =IF(OR(C43="Cours magistral",C43="Activité assimilée",C43="Travail de fin d'études",C43="Séminaire"),"OUI","NON") -> NON
A44: AA6.4 | D44: =IF(OR(C44="Cours magistral",C44="Activité assimilée",C44="Travail de fin d'études",C44="Séminaire"),"OUI","NON") -> NON
A45: AA6.5 | D45: =IF(OR(C45="Cours magistral",C45="Activité assimilée",C45="Travail de fin d'études",C45="Séminaire"),"OUI","NON") -> NON
A46: Unité d'enseignement 7 | C46: Travaux pratiques | D46: =IF(OR(C46="Cours magistral",C46="Activité assimilée",C46="Travail de fin d'études",C46="Séminaire"),"OUI","NON") -> NON | E46: 5 | G46: NON
A47: AA7.1 | D47: =IF(OR(C47="Cours magistral",C47="Activité assimilée",C47="Travail de fin d'études",C47="Séminaire"),"OUI","NON") -> NON
A48: AA7.2 | D48: =IF(OR(C48="Cours magistral",C48="Activité assimilée",C48="Travail de fin d'études",C48="Séminaire"),"OUI","NON") -> NON
A49: AA7.3 | D49: =IF(OR(C49="Cours magistral",C49="Activité assimilée",C49="Travail de fin d'études",C49="Séminaire"),"OUI","NON") -> NON
A50: AA7.4 | D50: =IF(OR(C50="Cours magistral",C50="Activité assimilée",C50="Travail de fin d'études",C50="Séminaire"),"OUI","NON") -> NON
A51: AA7.5 | D51: =IF(OR(C51="Cours magistral",C51="Activité assimilée",C51="Travail de fin d'études",C51="Séminaire"),"OUI","NON") -> NON
A52: Unité d'enseignement 8 | C52: Exercices dirigés | D52: =IF(OR(C52="Cours magistral",C52="Activité assimilée",C52="Travail de fin d'études",C52="Séminaire"),"OUI","NON") -> NON | E52: 7 | G52: NON
A53: AA8.1 | D53: =IF(OR(C53="Cours magistral",C53="Activité assimilée",C53="Travail de fin d'études",C53="Séminaire"),"OUI","NON") -> NON
A54: AA8.2 | D54: =IF(OR(C54="Cours magistral",C54="Activité assimilée",C54="Travail de fin d'études",C54="Séminaire"),"OUI","NON") -> NON
A55: AA8.3 | D55: =IF(OR(C55="Cours magistral",C55="Activité assimilée",C55="Travail de fin d'études",C55="Séminaire"),"OUI","NON") -> NON
A56: AA8.4 | D56: =IF(OR(C56="Cours magistral",C56="Activité assimilée",C56="Travail de fin d'études",C56="Séminaire"),"OUI","NON") -> NON
A57: AA8.5 | D57: =IF(OR(C57="Cours magistral",C57="Activité assimilée",C57="Travail de fin d'études",C57="Séminaire"),"OUI","NON") -> NON
A58: Unité d'enseignement 9 | C58: Séminaire | D58: =IF(OR(C58="Cours magistral",C58="Activité assimilée",C58="Travail de fin d'études",C58="Séminaire"),"OUI","NON") -> OUI | E58: 4 | G58: OUI
A59: AA9.1 | D59: =IF(OR(C59="Cours magistral",C59="Activité assimilée",C59="Travail de fin d'études",C59="Séminaire"),"OUI","NON") -> NON
A60: AA9.2 | D60: =IF(OR(C60="Cours magistral",C60="Activité assimilée",C60="Travail de fin d'études",C60="Séminaire"),"OUI","NON") -> NON
A61: AA9.3 | D61: =IF(OR(C61="Cours magistral",C61="Activité assimilée",C61="Travail de fin d'études",C61="Séminaire"),"OUI","NON") -> NON
A62: AA9.4 | D62: =IF(OR(C62="Cours magistral",C62="Activité assimilée",C62="Travail de fin d'études",C62="Séminaire"),"OUI","NON") -> NON
A63: AA9.5 | D63: =IF(OR(C63="Cours magistral",C63="Activité assimilée",C63="Travail de fin d'études",C63="Séminaire"),"OUI","NON") -> NON
A64: Unité d'enseignement 10 | C64: Exercices dirigés | D64: =IF(OR(C64="Cours magistral",C64="Activité assimilée",C64="Travail de fin d'études",C64="Séminaire"),"OUI","NON") -> NON | E64: 5 | G64: NON
A65: AA10.1 | D65: =IF(OR(C65="Cours magistral",C65="Activité assimilée",C65="Travail de fin d'études",C65="Séminaire"),"OUI","NON") -> NON
A66: AA10.2 | D66: =IF(OR(C66="Cours magistral",C66="Activité assimilée",C66="Travail de fin d'études",C66="Séminaire"),"OUI","NON") -> NON
A67: AA10.3 | D67: =IF(OR(C67="Cours magistral",C67="Activité assimilée",C67="Travail de fin d'études",C67="Séminaire"),"OUI","NON") -> NON
A68: AA10.4 | D68: =IF(OR(C68="Cours magistral",C68="Activité assimilée",C68="Travail de fin d'études",C68="Séminaire"),"OUI","NON") -> NON
A69: AA10.5 | D69: =IF(OR(C69="Cours magistral",C69="Activité assimilée",C69="Travail de fin d'études",C69="Séminaire"),"OUI","NON") -> NON
A70: Unité d'enseignement 11 | C70: Travaux de laboratoires | D70: =IF(OR(C70="Cours magistral",C70="Activité assimilée",C70="Travail de fin d'études",C70="Séminaire"),"OUI","NON") -> NON | E70: 5 | G70: OUI
A71: AA11.1 | D71: =IF(OR(C71="Cours magistral",C71="Activité assimilée",C71="Travail de fin d'études",C71="Séminaire"),"OUI","NON") -> NON
A72: AA11.2 | D72: =IF(OR(C72="Cours magistral",C72="Activité assimilée",C72="Travail de fin d'études",C72="Séminaire"),"OUI","NON") -> NON
A73: AA11.3 | D73: =IF(OR(C73="Cours magistral",C73="Activité assimilée",C73="Travail de fin d'études",C73="Séminaire"),"OUI","NON") -> NON
A74: AA11.4 | D74: =IF(OR(C74="Cours magistral",C74="Activité assimilée",C74="Travail de fin d'études",C74="Séminaire"),"OUI","NON") -> NON
A75: AA11.5 | D75: =IF(OR(C75="Cours magistral",C75="Activité assimilée",C75="Travail de fin d'études",C75="Séminaire"),"OUI","NON") -> NON
A76: Unité d'enseignement 12 | C76: Travaux pratiques | D76: =IF(OR(C76="Cours magistral",C76="Activité assimilée",C76="Travail de fin d'études",C76="Séminaire"),"OUI","NON") -> NON | E76: 3 | G76: NON
A77: AA12.1 | D77: =IF(OR(C77="Cours magistral",C77="Activité assimilée",C77="Travail de fin d'études",C77="Séminaire"),"OUI","NON") -> NON
A78: AA12.2 | D78: =IF(OR(C78="Cours magistral",C78="Activité assimilée",C78="Travail de fin d'études",C78="Séminaire"),"OUI","NON") -> NON
A79: AA12.3 | D79: =IF(OR(C79="Cours magistral",C79="Activité assimilée",C79="Travail de fin d'études",C79="Séminaire"),"OUI","NON") -> NON
A80: AA12.4 | D80: =IF(OR(C80="Cours magistral",C80="Activité assimilée",C80="Travail de fin d'études",C80="Séminaire"),"OUI","NON") -> NON
A81: AA12.5 | D81: =IF(OR(C81="Cours magistral",C81="Activité assimilée",C81="Travail de fin d'études",C81="Séminaire"),"OUI","NON") -> NON
A82: Unité d'enseignement 13 | D82: =IF(OR(C82="Cours magistral",C82="Activité assimilée",C82="Travail de fin d'études",C82="Séminaire"),"OUI","NON") -> NON
A83: AA13.1 | D83: =IF(OR(C83="Cours magistral",C83="Activité assimilée",C83="Travail de fin d'études",C83="Séminaire"),"OUI","NON") -> NON
A84: AA13.2 | D84: =IF(OR(C84="Cours magistral",C84="Activité assimilée",C84="Travail de fin d'études",C84="Séminaire"),"OUI","NON") -> NON
A85: AA13.3 | D85: =IF(OR(C85="Cours magistral",C85="Activité assimilée",C85="Travail de fin d'études",C85="Séminaire"),"OUI","NON") -> NON
A86: AA13.4 | D86: =IF(OR(C86="Cours magistral",C86="Activité assimilée",C86="Travail de fin d'études",C86="Séminaire"),"OUI","NON") -> NON
A87: AA13.5 | D87: =IF(OR(C87="Cours magistral",C87="Activité assimilée",C87="Travail de fin d'études",C87="Séminaire"),"OUI","NON") -> NON
A88: Unité d'enseignement 14 | D88: =IF(OR(C88="Cours magistral",C88="Activité assimilée",C88="Travail de fin d'études",C88="Séminaire"),"OUI","NON") -> NON
... A159: AA25.5 | D159: =IF(OR(C159="Cours magistral",C159="Activité assimilée",C159="Travail de fin d'études",C159="Séminaire"),"OUI","NON") -> NON

Sheet Master-bloc 2
A1: Etablissement: | B1: =SYNTHESE!$B$1 -> Haute école
C3: Sont considérées comme activités théoriques : les cours magistraux, les séminaires, les travaux de fin d’études et les activités assimilées
A4: Master - BLOC 2
C5: Crédits théoriques | E5: =SUMIF(D10:D159,"OUI",E10:E159) -> 29
C6: Crédits théoriques avec doctorat | E6: =SUMIFS(E10:E159,D10:D159,"OUI",G10:G159,"OUI") -> 20
C7: Pourcentage | E7: =E6/E5 -> 0.68965517
B9: Nom de l'UE / de l'AA | C9: Type d'activité d'apprentissage | D9: Théorique | E9: Crédits | F9: Nom et Prénom de l'enseignant.e | G9: Doctorat
A10: Unité d'enseignement 1 | C10: Cours magistral | D10: =IF(OR(C10="Cours magistral",C10="Activité assimilée",C10="Travail de fin d'études",C10="Séminaire"),"OUI","NON") -> OUI | E10: 2 | G10: OUI
A11: AA1.1 | D11: =IF(OR(C11="Cours magistral",C11="Activité assimilée",C11="Travail de fin d'études",C11="Séminaire"),"OUI","NON") -> NON
A12: AA1.2 | D12: =IF(OR(C12="Cours magistral",C12="Activité assimilée",C12="Travail de fin d'études",C12="Séminaire"),"OUI","NON") -> NON
A13: AA1.3 | D13: =IF(OR(C13="Cours magistral",C13="Activité assimilée",C13="Travail de fin d'études",C13="Séminaire"),"OUI","NON") -> NON
A14: AA1.4 | D14: =IF(OR(C14="Cours magistral",C14="Activité assimilée",C14="Travail de fin d'études",C14="Séminaire"),"OUI","NON") -> NON
A15: AA1.5 | D15: =IF(OR(C15="Cours magistral",C15="Activité assimilée",C15="Travail de fin d'études",C15="Séminaire"),"OUI","NON") -> NON
A16: Unité d'enseignement 2 | C16: Cours magistral | D16: =IF(OR(C16="Cours magistral",C16="Activité assimilée",C16="Travail de fin d'études",C16="Séminaire"),"OUI","NON") -> OUI | E16: 4 | G16: NON
A17: AA2.1 | D17: =IF(OR(C17="Cours magistral",C17="Activité assimilée",C17="Travail de fin d'études",C17="Séminaire"),"OUI","NON") -> NON
A18: AA2.2 | D18: =IF(OR(C18="Cours magistral",C18="Activité assimilée",C18="Travail de fin d'études",C18="Séminaire"),"OUI","NON") -> NON
A19: AA2.3 | D19: =IF(OR(C19="Cours magistral",C19="Activité assimilée",C19="Travail de fin d'études",C19="Séminaire"),"OUI","NON") -> NON
A20: AA2.4 | D20: =IF(OR(C20="Cours magistral",C20="Activité assimilée",C20="Travail de fin d'études",C20="Séminaire"),"OUI","NON") -> NON
A21: AA2.5 | D21: =IF(OR(C21="Cours magistral",C21="Activité assimilée",C21="Travail de fin d'études",C21="Séminaire"),"OUI","NON") -> NON
A22: Unité d'enseignement 3 | C22: Activité d'intégration professionnelle | D22: =IF(OR(C22="Cours magistral",C22="Activité assimilée",C22="Travail de fin d'études",C22="Séminaire"),"OUI","NON") -> NON | E22: 3 | G22: OUI
A23: AA3.1 | D23: =IF(OR(C23="Cours magistral",C23="Activité assimilée",C23="Travail de fin d'études",C23="Séminaire"),"OUI","NON") -> NON
A24: AA3.2 | D24: =IF(OR(C24="Cours magistral",C24="Activité assimilée",C24="Travail de fin d'études",C24="Séminaire"),"OUI","NON") -> NON
A25: AA3.3 | D25: =IF(OR(C25="Cours magistral",C25="Activité assimilée",C25="Travail de fin d'études",C25="Séminaire"),"OUI","NON") -> NON
A26: AA3.4 | D26: =IF(OR(C26="Cours magistral",C26="Activité assimilée",C26="Travail de fin d'études",C26="Séminaire"),"OUI","NON") -> NON
A27: AA3.5 | D27: =IF(OR(C27="Cours magistral",C27="Activité assimilée",C27="Travail de fin d'études",C27="Séminaire"),"OUI","NON") -> NON
A28: Unité d'enseignement 4 | C28: Cours magistral | D28: =IF(OR(C28="Cours magistral",C28="Activité assimilée",C28="Travail de fin d'études",C28="Séminaire"),"OUI","NON") -> OUI | E28: 7 | G28: OUI
A29: AA4.1 | D29: =IF(OR(C29="Cours magistral",C29="Activité assimilée",C29="Travail de fin d'études",C29="Séminaire"),"OUI","NON") -> NON
A30: AA4.2 | D30: =IF(OR(C30="Cours magistral",C30="Activité assimilée",C30="Travail de fin d'études",C30="Séminaire"),"OUI","NON") -> NON
A31: AA4.3 | D31: =IF(OR(C31="Cours magistral",C31="Activité assimilée",C31="Travail de fin d'études",C31="Séminaire"),"OUI","NON") -> NON
A32: AA4.4 | D32: =IF(OR(C32="Cours magistral",C32="Activité assimilée",C32="Travail de fin d'études",C32="Séminaire"),"OUI","NON") -> NON
A33: AA4.5 | D33: =IF(OR(C33="Cours magistral",C33="Activité assimilée",C33="Travail de fin d'études",C33="Séminaire"),"OUI","NON") -> NON
A34: Unité d'enseignement 5 | C34: Cours magistral | D34: =IF(OR(C34="Cours magistral",C34="Activité assimilée",C34="Travail de fin d'études",C34="Séminaire"),"OUI","NON") -> OUI | E34: 5 | G34: NON
A35: AA5.1 | D35: =IF(OR(C35="Cours magistral",C35="Activité assimilée",C35="Travail de fin d'études",C35="Séminaire"),"OUI","NON") -> NON
A36: AA5.2 | D36: =IF(OR(C36="Cours magistral",C36="Activité assimilée",C36="Travail de fin d'études",C36="Séminaire"),"OUI","NON") -> NON
A37: AA5.3 | D37: =IF(OR(C37="Cours magistral",C37="Activité assimilée",C37="Travail de fin d'études",C37="Séminaire"),"OUI","NON") -> NON
A38: AA5.4 | D38: =IF(OR(C38="Cours magistral",C38="Activité assimilée",C38="Travail de fin d'études",C38="Séminaire"),"OUI","NON") -> NON
A39: AA5.5 | D39: =IF(OR(C39="Cours magistral",C39="Activité assimilée",C39="Travail de fin d'études",C39="Séminaire"),"OUI","NON") -> NON
A40: Unité d'enseignement 6 | C40: Cours magistral | D40: =IF(OR(C40="Cours magistral",C40="Activité assimilée",C40="Travail de fin d'études",C40="Séminaire"),"OUI","NON") -> OUI | E40: 7 | G40: OUI
A41: AA6.1 | D41: =IF(OR(C41="Cours magistral",C41="Activité assimilée",C41="Travail de fin d'études",C41="Séminaire"),"OUI","NON") -> NON
A42: AA6.2 | D42: =IF(OR(C42="Cours magistral",C42="Activité assimilée",C42="Travail de fin d'études",C42="Séminaire"),"OUI","NON") -> NON
A43: AA6.3 | D43: =IF(OR(C43="Cours magistral",C43="Activité assimilée",C43="Travail de fin d'études",C43="Séminaire"),"OUI","NON") -> NON
A44: AA6.4 | D44: =IF(OR(C44="Cours magistral",C44="Activité assimilée",C44="Travail de fin d'études",C44="Séminaire"),"OUI","NON") -> NON
A45: AA6.5 | D45: =IF(OR(C45="Cours magistral",C45="Activité assimilée",C45="Travail de fin d'études",C45="Séminaire"),"OUI","NON") -> NON
A46: Unité d'enseignement 7 | C46: Travaux pratiques | D46: =IF(OR(C46="Cours magistral",C46="Activité assimilée",C46="Travail de fin d'études",C46="Séminaire"),"OUI","NON") -> NON | E46: 5 | G46: NON
A47: AA7.1 | D47: =IF(OR(C47="Cours magistral",C47="Activité assimilée",C47="Travail de fin d'études",C47="Séminaire"),"OUI","NON") -> NON
A48: AA7.2 | D48: =IF(OR(C48="Cours magistral",C48="Activité assimilée",C48="Travail de fin d'études",C48="Séminaire"),"OUI","NON") -> NON
A49: AA7.3 | D49: =IF(OR(C49="Cours magistral",C49="Activité assimilée",C49="Travail de fin d'études",C49="Séminaire"),"OUI","NON") -> NON
A50: AA7.4 | D50: =IF(OR(C50="Cours magistral",C50="Activité assimilée",C50="Travail de fin d'études",C50="Séminaire"),"OUI","NON") -> NON
A51: AA7.5 | D51: =IF(OR(C51="Cours magistral",C51="Activité assimilée",C51="Travail de fin d'études",C51="Séminaire"),"OUI","NON") -> NON
A52: Unité d'enseignement 8 | C52: Exercices dirigés | D52: =IF(OR(C52="Cours magistral",C52="Activité assimilée",C52="Travail de fin d'études",C52="Séminaire"),"OUI","NON") -> NON | E52: 7 | G52: NON
A53: AA8.1 | D53: =IF(OR(C53="Cours magistral",C53="Activité assimilée",C53="Travail de fin d'études",C53="Séminaire"),"OUI","NON") -> NON
A54: AA8.2 | D54: =IF(OR(C54="Cours magistral",C54="Activité assimilée",C54="Travail de fin d'études",C54="Séminaire"),"OUI","NON") -> NON
A55: AA8.3 | D55: =IF(OR(C55="Cours magistral",C55="Activité assimilée",C55="Travail de fin d'études",C55="Séminaire"),"OUI","NON") -> NON
A56: AA8.4 | D56: =IF(OR(C56="Cours magistral",C56="Activité assimilée",C56="Travail de fin d'études",C56="Séminaire"),"OUI","NON") -> NON
A57: AA8.5 | D57: =IF(OR(C57="Cours magistral",C57="Activité assimilée",C57="Travail de fin d'études",C57="Séminaire"),"OUI","NON") -> NON
A58: Unité d'enseignement 9 | C58: Séminaire | D58: =IF(OR(C58="Cours magistral",C58="Activité assimilée",C58="Travail de fin d'études",C58="Séminaire"),"OUI","NON") -> OUI | E58: 4 | G58: OUI
A59: AA9.1 | D59: =IF(OR(C59="Cours magistral",C59="Activité assimilée",C59="Travail de fin d'études",C59="Séminaire"),"OUI","NON") -> NON
A60: AA9.2 | D60: =IF(OR(C60="Cours magistral",C60="Activité assimilée",C60="Travail de fin d'études",C60="Séminaire"),"OUI","NON") -> NON
A61: AA9.3 | D61: =IF(OR(C61="Cours magistral",C61="Activité assimilée",C61="Travail de fin d'études",C61="Séminaire"),"OUI","NON") -> NON
A62: AA9.4 | D62: =IF(OR(C62="Cours magistral",C62="Activité assimilée",C62="Travail de fin d'études",C62="Séminaire"),"OUI","NON") -> NON
A63: AA9.5 | D63: =IF(OR(C63="Cours magistral",C63="Activité assimilée",C63="Travail de fin d'études",C63="Séminaire"),"OUI","NON") -> NON
A64: Unité d'enseignement 10 | C64: Exercices dirigés | D64: =IF(OR(C64="Cours magistral",C64="Activité assimilée",C64="Travail de fin d'études",C64="Séminaire"),"OUI","NON") -> NON | E64: 5 | G64: NON
A65: AA10.1 | D65: =IF(OR(C65="Cours magistral",C65="Activité assimilée",C65="Travail de fin d'études",C65="Séminaire"),"OUI","NON") -> NON
A66: AA10.2 | D66: =IF(OR(C66="Cours magistral",C66="Activité assimilée",C66="Travail de fin d'études",C66="Séminaire"),"OUI","NON") -> NON
A67: AA10.3 | D67: =IF(OR(C67="Cours magistral",C67="Activité assimilée",C67="Travail de fin d'études",C67="Séminaire"),"OUI","NON") -> NON
A68: AA10.4 | D68: =IF(OR(C68="Cours magistral",C68="Activité assimilée",C68="Travail de fin d'études",C68="Séminaire"),"OUI","NON") -> NON
A69: AA10.5 | D69: =IF(OR(C69="Cours magistral",C69="Activité assimilée",C69="Travail de fin d'études",C69="Séminaire"),"OUI","NON") -> NON
A70: Unité d'enseignement 11 | C70: Stages | D70: =IF(OR(C70="Cours magistral",C70="Activité assimilée",C70="Travail de fin d'études",C70="Séminaire"),"OUI","NON") -> NON | E70: 5 | G70: OUI
A71: AA11.1 | D71: =IF(OR(C71="Cours magistral",C71="Activité assimilée",C71="Travail de fin d'études",C71="Séminaire"),"OUI","NON") -> NON
A72: AA11.2 | D72: =IF(OR(C72="Cours magistral",C72="Activité assimilée",C72="Travail de fin d'études",C72="Séminaire"),"OUI","NON") -> NON
A73: AA11.3 | D73: =IF(OR(C73="Cours magistral",C73="Activité assimilée",C73="Travail de fin d'études",C73="Séminaire"),"OUI","NON") -> NON
A74: AA11.4 | D74: =IF(OR(C74="Cours magistral",C74="Activité assimilée",C74="Travail de fin d'études",C74="Séminaire"),"OUI","NON") -> NON
A75: AA11.5 | D75: =IF(OR(C75="Cours magistral",C75="Activité assimilée",C75="Travail de fin d'études",C75="Séminaire"),"OUI","NON") -> NON
A76: Unité d'enseignement 12 | C76: Stages | D76: =IF(OR(C76="Cours magistral",C76="Activité assimilée",C76="Travail de fin d'études",C76="Séminaire"),"OUI","NON") -> NON | E76: 3 | G76: NON
A77: AA12.1 | D77: =IF(OR(C77="Cours magistral",C77="Activité assimilée",C77="Travail de fin d'études",C77="Séminaire"),"OUI","NON") -> NON
A78: AA12.2 | D78: =IF(OR(C78="Cours magistral",C78="Activité assimilée",C78="Travail de fin d'études",C78="Séminaire"),"OUI","NON") -> NON
A79: AA12.3 | D79: =IF(OR(C79="Cours magistral",C79="Activité assimilée",C79="Travail de fin d'études",C79="Séminaire"),"OUI","NON") -> NON
A80: AA12.4 | D80: =IF(OR(C80="Cours magistral",C80="Activité assimilée",C80="Travail de fin d'études",C80="Séminaire"),"OUI","NON") -> NON
A81: AA12.5 | D81: =IF(OR(C81="Cours magistral",C81="Activité assimilée",C81="Travail de fin d'études",C81="Séminaire"),"OUI","NON") -> NON
A82: Unité d'enseignement 13 | D82: =IF(OR(C82="Cours magistral",C82="Activité assimilée",C82="Travail de fin d'études",C82="Séminaire"),"OUI","NON") -> NON
A83: AA13.1 | D83: =IF(OR(C83="Cours magistral",C83="Activité assimilée",C83="Travail de fin d'études",C83="Séminaire"),"OUI","NON") -> NON
A84: AA13.2 | D84: =IF(OR(C84="Cours magistral",C84="Activité assimilée",C84="Travail de fin d'études",C84="Séminaire"),"OUI","NON") -> NON
A85: AA13.3 | D85: =IF(OR(C85="Cours magistral",C85="Activité assimilée",C85="Travail de fin d'études",C85="Séminaire"),"OUI","NON") -> NON
A86: AA13.4 | D86: =IF(OR(C86="Cours magistral",C86="Activité assimilée",C86="Travail de fin d'études",C86="Séminaire"),"OUI","NON") -> NON
A87: AA13.5 | D87: =IF(OR(C87="Cours magistral",C87="Activité assimilée",C87="Travail de fin d'études",C87="Séminaire"),"OUI","NON") -> NON
A88: Unité d'enseignement 14 | D88: =IF(OR(C88="Cours magistral",C88="Activité assimilée",C88="Travail de fin d'études",C88="Séminaire"),"OUI","NON") -> NON
... A159: AA25.5 | D159: =IF(OR(C159="Cours magistral",C159="Activité assimilée",C159="Travail de fin d'études",C159="Séminaire"),"OUI","NON") -> NON

Sheet Données menus déroulants
A3: Article 76. - Les activités d'apprentissage comportent : 1° des enseignements organisés par l'établissement, notamment des cours magistraux, exercices dirigés, travaux pratiques, travaux de laboratoire, séminaires, exercices de création et recherche en atelier, excursions, visites et stages; 2° des activités individuelles ou en groupe, notamment des préparations, travaux, recherches d'information, travaux de fin d'études, projets et activités d'intégration professionnelle; 3° des activités d'étude, d'autoformation et d'enrichissement personnel ; 4° des acquisitions de compétences en entreprise dans le cadre de l'enseignement en alternance.
B12: Liste des activités d'apprentissage
B14: Activité assimilée
B15: Activité d'intégration professionnelle
B16: Cours magistral
B17: Excursions
B18: Exercices dirigés
B19: Projets
B20: Séminaire
B21: Stages
B22: Travail de fin d'études
B23: Travaux de laboratoires
B24: Travaux pratiques
B25: Visites
